BEGIN:VCALENDAR
VERSION:2.0
PRODID:-//Creativiticouncil - ECPv6.13.2.1//NONSGML v1.0//EN
CALSCALE:GREGORIAN
METHOD:PUBLISH
X-WR-CALNAME:Creativiticouncil
X-ORIGINAL-URL:https://www.creativiticouncil.org
X-WR-CALDESC:Events for Creativiticouncil
REFRESH-INTERVAL;VALUE=DURATION:PT1H
X-Robots-Tag:noindex
X-PUBLISHED-TTL:PT1H
BEGIN:VTIMEZONE
TZID:Asia/Kolkata
BEGIN:STANDARD
TZOFFSETFROM:+0530
TZOFFSETTO:+0530
TZNAME:IST
DTSTART:20180101T000000
END:STANDARD
END:VTIMEZONE
BEGIN:VTIMEZONE
TZID:UTC
BEGIN:STANDARD
TZOFFSETFROM:+0000
TZOFFSETTO:+0000
TZNAME:UTC
DTSTART:20200101T000000
END:STANDARD
END:VTIMEZONE
BEGIN:VEVENT
DTSTART;TZID=Asia/Kolkata:20250612T080000
DTEND;TZID=Asia/Kolkata:20250613T170000
DTSTAMP:20260421T192817
CREATED:20250609T093510Z
LAST-MODIFIED:20250609T093510Z
UID:11987-1749715200-1749834000@www.creativiticouncil.org
SUMMARY:Tech4All 2025
DESCRIPTION:We’re honored to be selected by the Commissionerate for the Welfare of the Differently Abled\, Government of Tamil Nadu\, to participate in Tech4All 2025 – Empowering Abilities Through Innovation. \n📅 12th & 13th June 2025\n📍 Kalaivanar Arangam\, Chennai\n🔹 Stall No. 9
URL:https://www.creativiticouncil.org/event/tech4all-2025/
LOCATION:Kalaivanar Arangam\, Chennai\, Kalaivanar Arangam\, Chennai\, Chennai\, Tamil Nadu\, 600002\, India
END:VEVENT
BEGIN:VEVENT
DTSTART;TZID=Asia/Kolkata:20250520T080000
DTEND;TZID=Asia/Kolkata:20250520T170000
DTSTAMP:20260421T192817
CREATED:20250609T093125Z
LAST-MODIFIED:20250609T093229Z
UID:11985-1747728000-1747760400@www.creativiticouncil.org
SUMMARY:CiCare® is now a Registered Trademark!
DESCRIPTION:We are happy to share that CiCare has been officially awarded a Trademark (®) by the Government of India. \nThis recognition strengthens our commitment to building accessible and affordable innovations for the bedrid
URL:https://www.creativiticouncil.org/event/cicare-is-now-a-registered-trademark/
END:VEVENT
BEGIN:VEVENT
DTSTART;TZID=Asia/Kolkata:20250501T080000
DTEND;TZID=Asia/Kolkata:20250501T170000
DTSTAMP:20260421T192817
CREATED:20250604T092727Z
LAST-MODIFIED:20250604T092727Z
UID:11432-1746086400-1746118800@www.creativiticouncil.org
SUMMARY:Cicare Electric  Backrest with additional features
DESCRIPTION:Developed CiCare Electric Backrest\, an innovative solution that effortlessly transforms an ordinary cot or bed into a hospital bed. Designed for maximum comfort and convenience\, this backrest comes with advanced features\, including a patient alarm\, wired remote control\, mobile charger\, and an FM radio slot. \nThis groundbreaking idea was recognized as a winner of the MSME Idea Hackathon 2023 and has been incubated at Maker Village. The product’s design and development were carried out by Encard Technologies.
URL:https://www.creativiticouncil.org/event/cicare-electric-backrest-with-additional-features-2/
END:VEVENT
BEGIN:VEVENT
DTSTART;TZID=Asia/Kolkata:20250330T080000
DTEND;TZID=Asia/Kolkata:20250330T170000
DTSTAMP:20260421T192817
CREATED:20250609T093634Z
LAST-MODIFIED:20250609T093634Z
UID:11990-1743321600-1743354000@www.creativiticouncil.org
SUMMARY:Developed CiCare Electric Backrest
DESCRIPTION:CiCare Electric Backrest\, an innovative solution that effortlessly transforms an ordinary cot or bed into a hospital bed. Designed for maximum comfort and convenience\, this backrest comes with advanced features\, including a patient alarm\, wired remote control\, mobile charger\, and an FM radio slot.\nWith the CiCare Electric Backrest\, bedridden patients can listen to the radio or use their mobile devices\, and if they need assistance\, they can easily communicate using the built-in alarm. Key features include affordability\, portability\, easy installation\, and adjustable inclination at any angle.\nThis groundbreaking idea was recognized as a winner of the MSME Idea Hackathon 2023 and has been incubated at Maker Village. The product’s design and development were carried out by Encard Technologies.
URL:https://www.creativiticouncil.org/event/developed-cicare-electric-backrest/
CATEGORIES:Technology
END:VEVENT
BEGIN:VEVENT
DTSTART;TZID=Asia/Kolkata:20240510T080000
DTEND;TZID=Asia/Kolkata:20240510T170000
DTSTAMP:20260421T192817
CREATED:20240513T022300Z
LAST-MODIFIED:20240513T022300Z
UID:11395-1715328000-1715360400@www.creativiticouncil.org
SUMMARY:Makers Social Impact Award
DESCRIPTION:Creativiti Council has won the Makers Social Impact Award’ for outstanding achievement and innovation in the Nidhi Accelerator Program of Maker Village. The award committee applauds our exceptional dedication\, creativity\, and perseverance in advancing the frontiers of commercialization and deployment of Cicare self-operated bed recliner.
URL:https://www.creativiticouncil.org/event/makers-social-impact-award/
END:VEVENT
BEGIN:VEVENT
DTSTART;TZID=Asia/Kolkata:20240405T080000
DTEND;TZID=Asia/Kolkata:20240405T170000
DTSTAMP:20260421T192817
CREATED:20240405T021747Z
LAST-MODIFIED:20240405T021747Z
UID:11392-1712304000-1712336400@www.creativiticouncil.org
SUMMARY:24 top eldercare companies and startups in India in 2024
DESCRIPTION:Creativiti Council has been featured as one of the Top Elder Companies /Startups in 2024 by F6S\nF6S is a global community that delivers billions in growth to startups and companies with funding\, accelerators\, jobs\, grants \nhttps://www.f6s.com/companies/elder-care/india/co
URL:https://www.creativiticouncil.org/event/24-top-eldercare-companies-and-startups-in-india-in-2024/
END:VEVENT
BEGIN:VEVENT
DTSTART;TZID=Asia/Kolkata:20231211T080000
DTEND;TZID=Asia/Kolkata:20231211T170000
DTSTAMP:20260421T192817
CREATED:20231211T093103Z
LAST-MODIFIED:20231211T093103Z
UID:11385-1702281600-1702314000@www.creativiticouncil.org
SUMMARY:Partnership with Kerala State Council for Science \,Technology Council
DESCRIPTION:The proposal submitted by Creativiti Council for the design and cost optimization of self-operated bed recliner has been approved by Kerala State Council for Science\, Technology and Environment and the project is under implementation
URL:https://www.creativiticouncil.org/event/partnership-with-kerala-state-council-for-science-technology-council/
END:VEVENT
BEGIN:VEVENT
DTSTART;TZID=Asia/Kolkata:20230627T080000
DTEND;TZID=Asia/Kolkata:20230627T170000
DTSTAMP:20260421T192817
CREATED:20230629T130013Z
LAST-MODIFIED:20230629T130013Z
UID:11371-1687852800-1687885200@www.creativiticouncil.org
SUMMARY:MSME Idea Hackathon
DESCRIPTION:Creativiti Council has won MSME Idea Hackathon under the category of low-cost digital health care system\, organized Ministry of Small and Medium Scale Enterprise (MSME) Government of India. The winners were announced by the Hon’ble Minister of MSME on the occasion of International MSME Day at Vigyan Bhawan\, New Delhi on 27.06.2023.
URL:https://www.creativiticouncil.org/event/msme-idea-hackathon/
END:VEVENT
BEGIN:VEVENT
DTSTART;TZID=Asia/Kolkata:20230621T080000
DTEND;TZID=Asia/Kolkata:20230621T170000
DTSTAMP:20260421T192817
CREATED:20230629T130304Z
LAST-MODIFIED:20230629T130304Z
UID:11373-1687334400-1687366800@www.creativiticouncil.org
SUMMARY:Climate Change Workshop Fairtrade International
DESCRIPTION:Creativiti Council in association with Fairtrade International organized a half-day workshop for the NGO partners of Fairtrade International on 21st June 2023\, at an auditorium of WSSS Wayanad\, Kerala India.
URL:https://www.creativiticouncil.org/event/climate-change-workshop-fairtrade-international/
END:VEVENT
BEGIN:VEVENT
DTSTART;TZID=Asia/Kolkata:20221231T080000
DTEND;TZID=Asia/Kolkata:20221231T170000
DTSTAMP:20260421T192817
CREATED:20250501T053503Z
LAST-MODIFIED:20250604T060553Z
UID:11264-1672473600-1672506000@www.creativiticouncil.org
SUMMARY:Cicare Electric Backrest with additional features
DESCRIPTION:Developed  CiCare Electric Backrest\, an innovative solution that effortlessly transforms an ordinary cot or bed into a hospital bed. Designed for maximum comfort and convenience\, this backrest comes with advanced features\, including a patient alarm\, wired remote control\, mobile charger\, and an FM radio slot.
URL:https://www.creativiticouncil.org/event/cicare-electric-backrest-with-additional-features/
CATEGORIES:Updates
END:VEVENT
BEGIN:VEVENT
DTSTART;TZID=Asia/Kolkata:20220822T080000
DTEND;TZID=Asia/Kolkata:20220822T170000
DTSTAMP:20260421T192817
CREATED:20220822T015851Z
LAST-MODIFIED:20220822T015942Z
UID:11240-1661155200-1661187600@www.creativiticouncil.org
SUMMARY:NIDHI Accelerator Program (2022-2023) of DST\, at Maker Village\, Kochi
DESCRIPTION:Creativiti Council has been selected for NIDHI Accelerator Program (2022-2023) of DST\, at Maker Village\, Kochi.\nThe accelerator is 6 months’ fast track structured program which helps aspiring entrepreneurs to be guided in a rigorous and more structured manner\, through a deep mentoring process and enable access to funding and market networks.\nThe program help us  to identify business opportunities\, validate product ideas\, engage with potential customers\, build scalable business models for our product CiCare Backrest
URL:https://www.creativiticouncil.org/event/selected-nidhi-accelerator-program-2022-2023-of-dst-at-maker-village-kochi/
END:VEVENT
BEGIN:VEVENT
DTSTART;TZID=Asia/Kolkata:20220527T080000
DTEND;TZID=Asia/Kolkata:20220527T170000
DTSTAMP:20260421T192817
CREATED:20220702T143010Z
LAST-MODIFIED:20220702T143319Z
UID:11229-1653638400-1653670800@www.creativiticouncil.org
SUMMARY:Selected by Fairtrade International for Climate Change Impact study
DESCRIPTION:Selected by Fairtrade International for conducting impact study on climate change with Spice farmers of  Kerala. The study analyses the impact of climate changes and also propose \,develop \, implement novel approaches and models for mitigating climate change impacts
URL:https://www.creativiticouncil.org/event/selected-by-fairtrade-international-for-climate-change-impact-study/
END:VEVENT
BEGIN:VEVENT
DTSTART;TZID=Asia/Kolkata:20220302T080000
DTEND;TZID=Asia/Kolkata:20220302T170000
DTSTAMP:20260421T192817
CREATED:20220326T072557Z
LAST-MODIFIED:20250604T060758Z
UID:11189-1646208000-1646240400@www.creativiticouncil.org
SUMMARY:CICare: Selected For Showcasing in TechEx.in. program
DESCRIPTION:CICare\, Self Operated Backrest has been selected by Venture Centre Pune for showcasing in TechEx.in. TechEx. Matchmakers are aimed at matchmaking of solution seakers/funders. Creativiti Council is one of the 6 companies selected at national level in rehabilitation sector for match making \nhttps://www.youtube.com/watch?v=BOKVj2kTG-k&t=12s
URL:https://www.creativiticouncil.org/event/cicare-selected-by-venture-centre-for-showcasing-in-techex-in/
END:VEVENT
BEGIN:VEVENT
DTSTART;TZID=Asia/Kolkata:20220208T080000
DTEND;TZID=Asia/Kolkata:20220208T170000
DTSTAMP:20260421T192817
CREATED:20220326T081339Z
LAST-MODIFIED:20220717T031151Z
UID:11194-1644307200-1644339600@www.creativiticouncil.org
SUMMARY:Deployment of CICare at Hope Foundation Cochin
DESCRIPTION:Delivered our product “CICare-Self Operated Backrest” at Hope Foundation Cochin
URL:https://www.creativiticouncil.org/event/deployment-of-elevar-at-hope-foundation-cochin/
END:VEVENT
BEGIN:VEVENT
DTSTART;TZID=Asia/Kolkata:20220102T080000
DTEND;TZID=Asia/Kolkata:20220102T170000
DTSTAMP:20260421T192817
CREATED:20220326T081551Z
LAST-MODIFIED:20220326T081551Z
UID:11196-1641110400-1641142800@www.creativiticouncil.org
SUMMARY:Feasibility Study Supported by BMZ Germany  KübelStiftungfür Kind und Familie\, Germany.
DESCRIPTION:Creativiti Council has been selected by BMZ Germany & kübelStiftungfür Kind und Familie\, Germany for conducting feasibility study of the project “Strengthening of vulnerable communities with focus on women and girls in the Mandya district\, Karnataka\, India” The project developed by St Thomas Mission Society is aimed at introducing interventions based on women empowerment and social changes.
URL:https://www.creativiticouncil.org/event/feasibility-study-supported-by-bmz-germany-kubelstiftungfur-kind-und-familie-germany/
END:VEVENT
BEGIN:VEVENT
DTSTART;TZID=Asia/Kolkata:20210704T080000
DTEND;TZID=Asia/Kolkata:20210704T080000
DTSTAMP:20260421T192817
CREATED:20220326T081801Z
LAST-MODIFIED:20220326T081801Z
UID:11198-1625385600-1625385600@www.creativiticouncil.org
SUMMARY:Novartis's Social Impact Jumpstart program
DESCRIPTION:Creativiti Council has been selected for Novartis’s Social Impact Jumpstart program. Under this programme \,skilled corporate employees of Novartis volunteer with Creativiti council to scale the impact footprint by working in areas of mutual interest. The progarmme is coordinated and facilitated by Goodera\, India
URL:https://www.creativiticouncil.org/event/novartiss-social-impact-jumpstart-program/
END:VEVENT
BEGIN:VEVENT
DTSTART;TZID=Asia/Kolkata:20210224T080000
DTEND;TZID=Asia/Kolkata:20210224T170000
DTSTAMP:20260421T192817
CREATED:20210307T144733Z
LAST-MODIFIED:20210308T094418Z
UID:11171-1614153600-1614186000@www.creativiticouncil.org
SUMMARY:Selected for Green Innovation Fund by United Nations Development Programme (UNDP)\, Kerala Startup Mission (KSUM) and Haritha Keralam Mission
DESCRIPTION:Creativiti Council has been selected for the first cohort of Green Innovation Fund\, a six-month-long fund-linked accelerator programme for social impact startups. The fund is a joint initiative of the United Nations Development Programme (UNDP) – India\, Kerala Startup Mission (KSUM) and Haritha Keralam Mission for building and scaling tech-based products which can create sustainable\, social\, economic and environmental impact.
URL:https://www.creativiticouncil.org/event/selected-for-green-innovation-fund-by-united-nations-development-programme-undp-kerala-startup-mission-ksum-and-haritha-keralam-mission/
END:VEVENT
BEGIN:VEVENT
DTSTART;TZID=Asia/Kolkata:20210114T080000
DTEND;TZID=Asia/Kolkata:20210114T170000
DTSTAMP:20260421T192817
CREATED:20210116T155208Z
LAST-MODIFIED:20210307T133706Z
UID:11162-1610611200-1610643600@www.creativiticouncil.org
SUMMARY:An interview with Mr. T J James - Founder: Creativiti Council
DESCRIPTION:An interview with Mr. T J James – Founder & Director: Creativiti Council\, by Prof John Hoffmire\, Chairman of the Center on Business and Poverty\, the Director of Employee Ownership at Teamshares\, and Research Associate at the Oxford Centre for Mutual and Co-owned Business  \nhttps://crispsv.com/…/an-interview-with-james-tj…/
URL:https://www.creativiticouncil.org/event/an-interview-with-james-tj-founder-creativiti-council/
CATEGORIES:Updates
END:VEVENT
BEGIN:VEVENT
DTSTART;TZID=Asia/Kolkata:20201224T080000
DTEND;TZID=Asia/Kolkata:20201224T170000
DTSTAMP:20260421T192817
CREATED:20210307T151054Z
LAST-MODIFIED:20210307T151054Z
UID:11174-1608796800-1608829200@www.creativiticouncil.org
SUMMARY:Got selected as the Community partner of Kerala Startup Mission for the third consecutive year
DESCRIPTION:Kerala Startup Mission (KSUM) has selected Creativiti Council for the third consecutive year as community partner for creating a supporting ecosystem in rural innovations and palliative/elderly care.
URL:https://www.creativiticouncil.org/event/got-selected-as-the-community-partner-of-kerala-startup-mission-for-the-third-consecutive-year/
END:VEVENT
BEGIN:VEVENT
DTSTART;TZID=Asia/Kolkata:20201209T080000
DTEND;TZID=Asia/Kolkata:20201209T170000
DTSTAMP:20260421T192817
CREATED:20210116T154439Z
LAST-MODIFIED:20210116T154439Z
UID:11155-1607500800-1607533200@www.creativiticouncil.org
SUMMARY:FICCI startup community
DESCRIPTION:Creativiti Council has been selected as recognized startup of FICCI startup community and we have been invited to participate in FICCI’s 93rd Annual Convention and Annual EXPO 2020 on 11th\, 12th and 14th December 2020. Various products and innovations of Creativiti Council has been showcased in the Virtual Expo. The convention was inaugurated by Hon’ble Prime Minister of India\, Shri. Narendra Modi on December 12\, 2020
URL:https://www.creativiticouncil.org/event/ficci-startup-community/
CATEGORIES:Updates
END:VEVENT
BEGIN:VEVENT
DTSTART;TZID=Asia/Kolkata:20201022T080000
DTEND;TZID=Asia/Kolkata:20201022T170000
DTSTAMP:20260421T192817
CREATED:20210307T151411Z
LAST-MODIFIED:20210307T151411Z
UID:11176-1603353600-1603386000@www.creativiticouncil.org
SUMMARY:Innovators selected Virtual Global Farmer Innovation Fair
DESCRIPTION:Mr. Jose V V\, Mr. Jose Cheriyan and Mrs. Simi K V\, rural innovators nominated by Creativiti Council have been selected for Virtual Global Farmer Innovation Fair on 10 – 11 jointly organized by A Growing Culture and Prolinnova.
URL:https://www.creativiticouncil.org/event/innovators-selected-virtual-global-farmer-innovation-fair-2/
END:VEVENT
BEGIN:VEVENT
DTSTART;TZID=Asia/Kolkata:20201022T080000
DTEND;TZID=Asia/Kolkata:20201022T170000
DTSTAMP:20260421T192817
CREATED:20210116T154211Z
LAST-MODIFIED:20210116T154211Z
UID:11152-1603353600-1603386000@www.creativiticouncil.org
SUMMARY:Innovators selected Virtual Global Farmer Innovation Fair
DESCRIPTION:Mr. Jose VV\, Mr. Jose Cherian\, Mrs. Simi KV\, rural innovators from Kerala nominated by Creativiti Council has been selected for Virtual Global Farmer Innovation Fair on 10 – 11 jointly organized by A Growing Culture and Prolinnova.
URL:https://www.creativiticouncil.org/event/innovators-selected-virtual-global-farmer-innovation-fair/
CATEGORIES:Updates
END:VEVENT
BEGIN:VEVENT
DTSTART;TZID=UTC:20200829T000000
DTEND;TZID=UTC:20201007T150900
DTSTAMP:20260421T192817
CREATED:20160725T053431Z
LAST-MODIFIED:20201103T051412Z
UID:9501-1598659200-1602083340@www.creativiticouncil.org
SUMMARY:One day workshop organized
DESCRIPTION:One day workshop organized by Creativiti Council for sharing the insights of Evaluation Study on developmental project implemented by Peermade Development Society with the support of The Federal Ministry for Economic Cooperation and Development (BMZ) and Karl Kübel Stiftung für Kind und Familie (KKS)\, Germany.
URL:https://www.creativiticouncil.org/event/one-day-workshop-organized/
CATEGORIES:Updates
END:VEVENT
BEGIN:VEVENT
DTSTART;TZID=Asia/Kolkata:20200819T000000
DTEND;TZID=Asia/Kolkata:20201007T162800
DTSTAMP:20260421T192817
CREATED:20201007T162608Z
LAST-MODIFIED:20201103T064954Z
UID:10775-1597795200-1602088080@www.creativiticouncil.org
SUMMARY:Signed Business Engagement Agreement with Ethiopian partner
DESCRIPTION:Signed Business Engagement Agreement with Ethiopian partner\, Mr. Henok Andargachew for commercializing Thompson’s Electric Tyre Retreading Machine in Addis Ababa\, Ethiopia.
URL:https://www.creativiticouncil.org/event/signed-business-engagement-agreement-with-ethiopian-partner/
CATEGORIES:Updates
END:VEVENT
BEGIN:VEVENT
DTSTART;TZID=Asia/Kolkata:20200415T000000
DTEND;TZID=Asia/Kolkata:20201007T162700
DTSTAMP:20260421T192817
CREATED:20201007T162749Z
LAST-MODIFIED:20201103T065234Z
UID:10777-1586908800-1602088020@www.creativiticouncil.org
SUMMARY:Jointly introduced COV GUARD
DESCRIPTION:Jointly introduced COV GUARD – the Safety Face Shield for Medical Practitioners\, Police force\, Volunteers and common people to combat COVID 19 with TRYASRA Tech Solutions – Thiruvananthapuram\, Nidhi Prayas – DST\, Govt. of India and SCTIMST –TIMed
URL:https://www.creativiticouncil.org/event/jointly-introduced-cov-guard/
CATEGORIES:Updates
END:VEVENT
BEGIN:VEVENT
DTSTART;TZID=Asia/Kolkata:20200310T000000
DTEND;TZID=Asia/Kolkata:20201007T163500
DTSTAMP:20260421T192817
CREATED:20201007T163555Z
LAST-MODIFIED:20201103T065243Z
UID:10782-1583798400-1602088500@www.creativiticouncil.org
SUMMARY:Prolinnova – South India
DESCRIPTION:Prolinnova – South India: Prolinnova is the international multi stakeholder platform for promoting farmers’ innovation (http://www.prolinnova.net/content/introduction-15). Creativiti Council Council is the founding member of Prolinnova –South India. Mr. T J James\, Director Creativiti Council is nominated as Coordinator for Prolinnova platform in India
URL:https://www.creativiticouncil.org/event/prolinnova-south-india/
CATEGORIES:Updates
END:VEVENT
BEGIN:VEVENT
DTSTART;TZID=Asia/Kolkata:20200212T000000
DTEND;TZID=Asia/Kolkata:20201007T163400
DTSTAMP:20260421T192817
CREATED:20201007T163418Z
LAST-MODIFIED:20201103T065250Z
UID:10780-1581465600-1602088440@www.creativiticouncil.org
SUMMARY:FICCI\, DST\, Ministry of Innovation & Technology (MInT)-Government of Ethiopia
DESCRIPTION:FICCI\, DST\, Ministry of Innovation & Technology (MInT)-Government of Ethiopia have selected Creativiti Council among the top 10 companies in India for commercializing rural innovation in Ethiopia under India-Ethiopia Innovation & Technology Commercialization Programme (IEITCP). Mr Arun Technical Manager Creativiti Council participated in the 4 day workshop organized by FICCI\, DST and MinT Government of Ethiopia
URL:https://www.creativiticouncil.org/event/ficci-dst-ministry-of-innovation-technology-mint-government-of-ethiopia/
CATEGORIES:Updates
END:VEVENT
BEGIN:VEVENT
DTSTART;TZID=Asia/Kolkata:20180829T000000
DTEND;TZID=Asia/Kolkata:20201007T163800
DTSTAMP:20260421T192817
CREATED:20201007T163833Z
LAST-MODIFIED:20201103T065256Z
UID:10786-1535500800-1602088680@www.creativiticouncil.org
SUMMARY:In partnership with All the Children Trust - Chennai
DESCRIPTION:In partnership with All the Children Trust – Chennai\, Dreams Foundation Trust – Chennai\, & Alpha Pain and Palliative Care Center – Thrissur\, Creativiti council has taken initiatve for distributing water distillation units in flood affected areas of Thrissur districts. Beneficiaries were identified and filters were distributed to 75 families in flood affected areas of Thrissur.
URL:https://www.creativiticouncil.org/event/in-partnership-with-all-the-children-trust-chennai/
CATEGORIES:Updates
END:VEVENT
BEGIN:VEVENT
DTSTART;TZID=Asia/Kolkata:20180816T000000
DTEND;TZID=Asia/Kolkata:20201007T163900
DTSTAMP:20260421T192817
CREATED:20201007T163920Z
LAST-MODIFIED:20201103T065304Z
UID:10788-1534377600-1602088740@www.creativiticouncil.org
SUMMARY:Creativiti Council has been selected as community partner of Kerala Startup Mission
DESCRIPTION:Creativiti Council has been selected as community partner of Kerala Startup Mission\, Government of Kerala for promoting Startup Ecosystem in Kerala and for supporting rural innovators and innovations in palliative and elderly care.
URL:https://www.creativiticouncil.org/event/creativiti-council-has-been-selected-as-community-partner-of-kerala-startup-mission/
CATEGORIES:Updates
END:VEVENT
BEGIN:VEVENT
DTSTART;TZID=Asia/Kolkata:20180329T000000
DTEND;TZID=Asia/Kolkata:20201007T164000
DTSTAMP:20260421T192817
CREATED:20201007T163708Z
LAST-MODIFIED:20201103T065315Z
UID:10784-1522281600-1602088800@www.creativiticouncil.org
SUMMARY:Creativiti Council has been selected as Nidhi Prayasee (incubatee) of SCTIMST TIMed
DESCRIPTION:Creativiti Council has been selected as Nidhi Prayasee (incubatee) of SCTIMST TIMed – Technology Business Incubator for medical devices and Bio-materials of Sree Chitra Tirunal Institute for Medical Sciences & Technology\, Thiruvananthapuram under Nidhi Prayas – DST\, Govt. of India
URL:https://www.creativiticouncil.org/event/creativiti-council-has-been-selected-as-nidhi-prayasee-incubatee-of-sctimst-timed/
CATEGORIES:Updates
END:VEVENT
END:VCALENDAR